Workbook

Sheet BID SUMMARY SHEET
C2: North Carolina Department of Public Safety
C3: Emergency Management
B5: ELEVATION REQUEST FOR BID WORKSHEET
B6: RFB NUMBER:
B7: VENDOR:
B8: BID DATE:
B10: BID SUMMARY
B11: WORK PHASE | D11: TOTAL
B12: PRE-ELEVATION | D12: =SUM('REF-SHEET2-DONOTMOVE:REF-LASTSHEET-DONOTMOVE'!H19) -> 0
B13: ELEVATION CONSTRUCTION | D13: =SUM('REF-SHEET2-DONOTMOVE:REF-LASTSHEET-DONOTMOVE'!H31) -> 0
B14: POST-ELEVATION | D14: =SUM('REF-SHEET2-DONOTMOVE:REF-LASTSHEET-DONOTMOVE'!H39) -> 0
B15: PROFIT & OVERHEAD | D15: =SUM('REF-SHEET2-DONOTMOVE:REF-LASTSHEET-DONOTMOVE'!H40) -> 0
B16: CONSTRUCTION MANAGEMENT COSTS | D16: =SUM('REF-SHEET2-DONOTMOVE:REF-LASTSHEET-DONOTMOVE'!H41) -> 0
B17: GRAND TOTAL: | D17: =SUM(D12:D16) -> 0
B19: TOTAL PROJECT TIME (DAYS):
B21: NOTES: | C21: **Please read the following information carefully**
B22: 1) The Vendor shall fill out this Bid Worksheet in its entirety.
B23: 2) Modifications to this worksheet (i.e., adding/removing line items, modifying formulas, etc.) are not permitted. Noncompliance shall constitute grounds to reject Vendor's proposal.
B24: 3) Vendor is responsible for providing information in light blue cells.
B25: 4) This Bid Summary Sheet auto-calculates the Work Phase Totals (Pre-Elevation, Construction, Post-Elevation, and Profit & Overhead / Management Costs) from subsequent Property Worksheets. Vendor shall verify that all amounts for each individual phase and the Grand Total have been calculated correctly. Any errors or concerns with this worksheet shall be brought to the immediate attention of the State; Vendor shall follow the contact method as specified in Section 2.3 of the RFB.
B26: 5) Vendor must provide profit & overhead and management costs for each property, as applicable.
B27: 6) An individual Property Worksheet must be filled out in its entirety for EACH property. Property Worksheets are included within this Bid Worksheet.
B28: 7) Vendor shall note the unit of measure for each line item listed on the Property Worksheet (i.e., linear feet, square feet, hour, flat rate, or any reasonable unit of measure). Vendor shall input a Unit Price and Quantity for every line item (a '1' must be entered in the Quantity column for flat or individual costs).
B29: 8) Additional rows for miscellaneous costs have been provided for each property. Three additional rows per phase have been provided if the Vendor determines other eligible costs should be provided in their bid. If Vendor elects to use this category, a description of the cost must be provided along with the unit of measure, unit price, and quantity.
B30: 9) Vendor shall provide the anticipated overall project timeframe (i.e., total time to complete work for all properties listed). This estimate, in days, shall begin with the Notice to Proceed and end at closeout for all contracted work. Vendor shall strive to meet this timeframe, as well as any timeframes put forth by NCEM, barring any unexpected acts of nature requiring a change in the Scope of Work and/or Change Order(s). It is the responsibility of the Vendor to create a time schedule, including any phasing or work overlap, in order to complete all projects in the specified timeframe. The timeframe submitted by each Vendor shall be used by the State when evaluating bids as to meet HMGP goals and deadlines.

Sheet REF-SHEET2-DONOTMOVE
B2: *THIS SHEET HAS INTENTIONALLY BEEN LEFT BLANK. DO NOT DELETE.

Sheet PROPERTY (1)
B2: ELEVATION REQUEST FOR BID PROPERTY WORKSHEET
B3: STORM #: | C3: 4568 | E3: STREET ADDRESS: | F3: 75 E River Acres
B4: PROJECT #: | C4: 7 | E4: CITY: | F4: Washington
B6: WORK PHASE | C6: ITEMIZED WORK | E6: UNIT OF MEASURE | F6: UNIT PRICE | G6: QUANTITY | H6: ITEMIZED COST
B7: Pre-Elevation | C7: Feasibility Analysis | H7: =F7*G7 -> 0
C8: Home Inspection Report | H8: =F8*G8 -> 0
C9: Pre-Survey & Elevation Certificate | H9: =F9*G9 -> 0
C10: Title Research (Coversheet, Deed & Tax Report) | H10: =F10*G10 -> 0
C11: Engineering & Design | H11: =F11*G11 -> 0
C12: Permitting | H12: =F12*G12 -> 0
C13: Asbestos & Lead Inspection | H13: =F13*G13 -> 0
C14: Termite Inspection & Treatment | H14: =F14*G14 -> 0
C15: Mobilization | H15: =F15*G15 -> 0
C16: Misc. | D16: N/A or Provide Details | H16: =F16*G16 -> 0
C17: Misc. | D17: N/A or Provide Details | H17: =F17*G17 -> 0
C18: Misc. | D18: N/A or Provide Details | H18: =F18*G18 -> 0
G19: Pre-Elevation Total: | H19: =SUM(H7:H18) -> 0
B20: Elevation Construction | C20: Preparatory Site Work | H20: =F20*G20 -> 0
C21: Utility Disconnect & Reconnect | H21: =F21*G21 -> 0
C22: Elevation - Lift & Lower | H22: =F22*G22 -> 0
C23: Foundation Demolition | H23: =F23*G23 -> 0
C24: Foundation Construction | H24: =F24*G24 -> 0
C25: Access (e.g., Porches, Stairs, Ramps, etc.) | H25: =F25*G25 -> 0
C26: Inspections | H26: =F26*G26 -> 0
C27: Temporary Lodging | H27: =F27*G27 -> 0
C28: Misc. | D28: N/A or Provide Details | H28: =F28*G28 -> 0
C29: Misc. | D29: N/A or Provide Details | H29: =F29*G29 -> 0
C30: Misc. | D30: N/A or Provide Details | H30: =F30*G30 -> 0
G31: Construction Total: | H31: =SUM(H20:H30) -> 0
B32: Post-Elevation | C32: Post-Survey & Elevation Certificate | H32: =F32*G32 -> 0
C33: Final Site Work (e.g., Grade, Seed, etc.) | H33: =F33*G33 -> 0
C34: Deed Record Fee | H34: =F34*G34 -> 0
C35: Demobilization | H35: =F35*G35 -> 0
C36: Misc. | D36: N/A or Provide Details | H36: =F36*G36 -> 0
C37: Misc. | D37: N/A or Provide Details | H37: =F37*G37 -> 0
C38: Misc. | D38: N/A or Provide Details | H38: =F38*G38 -> 0
G39: Post-Elevation Total: | H39: =SUM(H32:H38) -> 0
B40: Other | C40: Profit & Overhead
C41: Construction Management Costs
G42: Other Total: | H42: =SUM(H40:H41) -> 0
...

Sheet Property (2)
B2: ELEVATION REQUEST FOR BID PROPERTY WORKSHEET
B3: STORM #: | C3: 4568 | E3: STREET ADDRESS: | F3: 108 Harbour Way
B4: PROJECT #: | C4: 7 | E4: CITY: | F4: Washington
B6: WORK PHASE | C6: ITEMIZED WORK | E6: UNIT OF MEASURE | F6: UNIT PRICE | G6: QUANTITY | H6: ITEMIZED COST
B7: Pre-Elevation | C7: Feasibility Analysis | H7: =F7*G7 -> 0
C8: Home Inspection Report | H8: =F8*G8 -> 0
C9: Pre-Survey & Elevation Certificate | H9: =F9*G9 -> 0
C10: Title Research (Coversheet, Deed & Tax Report) | H10: =F10*G10 -> 0
C11: Engineering & Design | H11: =F11*G11 -> 0
C12: Permitting | H12: =F12*G12 -> 0
C13: Asbestos & Lead Inspection | H13: =F13*G13 -> 0
C14: Termite Inspection & Treatment | H14: =F14*G14 -> 0
C15: Mobilization | H15: =F15*G15 -> 0
C16: Misc. | D16: N/A or Provide Details | H16: =F16*G16 -> 0
C17: Misc. | D17: N/A or Provide Details | H17: 0
C18: Misc. | D18: N/A or Provide Details | H18: =F18*G18 -> 0
G19: Pre-Elevation Total: | H19: =SUM(H7:H18) -> 0
B20: Elevation Construction | C20: Preparatory Site Work | H20: =F20*G20 -> 0
C21: Utility Disconnect & Reconnect | H21: =F21*G21 -> 0
C22: Elevation - Lift & Lower | H22: =F22*G22 -> 0
C23: Foundation Demolition | H23: =F23*G23 -> 0
C24: Foundation Construction | H24: =F24*G24 -> 0
C25: Access (e.g., Porches, Stairs, Ramps, etc.) | H25: =F25*G25 -> 0
C26: Inspections | H26: =F26*G26 -> 0
C27: Temporary Lodging | H27: =F27*G27 -> 0
C28: Misc. | D28: N/A or Provide Details | H28: =F28*G28 -> 0
C29: Misc. | D29: N/A or Provide Details | H29: =F29*G29 -> 0
C30: Misc. | D30: N/A or Provide Details | H30: =F30*G30 -> 0
G31: Construction Total: | H31: =SUM(H20:H30) -> 0
B32: Post-Elevation | C32: Post-Survey & Elevation Certificate | H32: =F32*G32 -> 0
C33: Final Site Work (e.g., Grade, Seed, etc.) | H33: =F33*G33 -> 0
C34: Deed Record Fee | H34: =F34*G34 -> 0
C35: Demobilization | H35: =F35*G35 -> 0
C36: Misc. | D36: N/A or Provide Details | H36: =F36*G36 -> 0
C37: Misc. | D37: N/A or Provide Details | H37: =F37*G37 -> 0
C38: Misc. | D38: N/A or Provide Details | H38: =F38*G38 -> 0
G39: Post-Elevation Total: | H39: =SUM(H32:H38) -> 0
B40: Other | C40: Profit & Overhead
C41: Construction Management Costs
G42: Other Total: | H42: =SUM(H40:H41) -> 0
...

Sheet Property (3)
B2: ELEVATION REQUEST FOR BID PROPERTY WORKSHEET
B3: STORM #: | C3: 4568 | E3: STREET ADDRESS: | F3: 269 Old Topping Drive
B4: PROJECT #: | C4: 7 | E4: CITY: | F4: Belhaven
B6: WORK PHASE | C6: ITEMIZED WORK | E6: UNIT OF MEASURE | F6: UNIT PRICE | G6: QUANTITY | H6: ITEMIZED COST
B7: Pre-Elevation | C7: Feasibility Analysis | H7: =F7*G7 -> 0
C8: Home Inspection Report | H8: =F8*G8 -> 0
C9: Pre-Survey & Elevation Certificate | H9: =F9*G9 -> 0
C10: Title Research (Coversheet, Deed & Tax Report) | H10: =F10*G10 -> 0
C11: Engineering & Design | H11: =F11*G11 -> 0
C12: Permitting | H12: =F12*G12 -> 0
C13: Asbestos & Lead Inspection | H13: =F13*G13 -> 0
C14: Termite Inspection & Treatment | H14: =F14*G14 -> 0
C15: Mobilization | H15: =F15*G15 -> 0
C16: Misc. | D16: N/A or Provide Details | H16: =F16*G16 -> 0
C17: Misc. | D17: N/A or Provide Details | H17: =F17*G17 -> 0
C18: Misc. | D18: N/A or Provide Details | H18: =F18*G18 -> 0
G19: Pre-Elevation Total: | H19: =SUM(H7:H18) -> 0
B20: Elevation Construction | C20: Preparatory Site Work | H20: =F20*G20 -> 0
C21: Utility Disconnect & Reconnect | H21: =F21*G21 -> 0
C22: Elevation - Lift & Lower | H22: =F22*G22 -> 0
C23: Foundation Demolition | H23: =F23*G23 -> 0
C24: Foundation Construction | H24: =F24*G24 -> 0
C25: Access (e.g., Porches, Stairs, Ramps, etc.) | H25: =F25*G25 -> 0
C26: Inspections | H26: =F26*G26 -> 0
C27: Temporary Lodging | H27: =F27*G27 -> 0
C28: Misc. | D28: N/A or Provide Details | H28: =F28*G28 -> 0
C29: Misc. | D29: N/A or Provide Details | H29: =F29*G29 -> 0
C30: Misc. | D30: N/A or Provide Details | H30: =F30*G30 -> 0
G31: Construction Total: | H31: =SUM(H20:H30) -> 0
B32: Post-Elevation | C32: Post-Survey & Elevation Certificate | H32: =F32*G32 -> 0
C33: Final Site Work (e.g., Grade, Seed, etc.) | H33: =F33*G33 -> 0
C34: Deed Record Fee | H34: =F34*G34 -> 0
C35: Demobilization | H35: =F35*G35 -> 0
C36: Misc. | D36: N/A or Provide Details | H36: =F36*G36 -> 0
C37: Misc. | D37: N/A or Provide Details | H37: =F37*G37 -> 0
C38: Misc. | D38: N/A or Provide Details | H38: =F38*G38 -> 0
G39: Post-Elevation Total: | H39: =SUM(H32:H38) -> 0
B40: Other | C40: Profit & Overhead
C41: Construction Management Costs
G42: Other Total: | H42: =SUM(H40:H41) -> 0
...

Sheet Property (4)
B2: ELEVATION REQUEST FOR BID PROPERTY WORKSHEET
B3: STORM #: | C3: 4568 | E3: STREET ADDRESS: | F3: 693 E Water Street
B4: PROJECT #: | C4: 7 | E4: CITY: | F4: Belhaven
B6: WORK PHASE | C6: ITEMIZED WORK | E6: UNIT OF MEASURE | F6: UNIT PRICE | G6: QUANTITY | H6: ITEMIZED COST
B7: Pre-Elevation | C7: Feasibility Analysis | H7: =F7*G7 -> 0
C8: Home Inspection Report | H8: =F8*G8 -> 0
C9: Pre-Survey & Elevation Certificate | H9: =F9*G9 -> 0
C10: Title Research (Coversheet, Deed & Tax Report) | H10: =F10*G10 -> 0
C11: Engineering & Design | H11: =F11*G11 -> 0
C12: Permitting | H12: =F12*G12 -> 0
C13: Asbestos & Lead Inspection | H13: =F13*G13 -> 0
C14: Termite Inspection & Treatment | H14: =F14*G14 -> 0
C15: Mobilization | H15: =F15*G15 -> 0
C16: Misc. | D16: N/A or Provide Details | H16: =F16*G16 -> 0
C17: Misc. | D17: N/A or Provide Details | H17: =F17*G17 -> 0
C18: Misc. | D18: N/A or Provide Details | H18: =F18*G18 -> 0
G19: Pre-Elevation Total: | H19: =SUM(H7:H18) -> 0
B20: Elevation Construction | C20: Preparatory Site Work | H20: =F20*G20 -> 0
C21: Utility Disconnect & Reconnect | H21: =F21*G21 -> 0
C22: Elevation - Lift & Lower | H22: =F22*G22 -> 0
C23: Foundation Demolition | H23: =F23*G23 -> 0
C24: Foundation Construction | H24: =F24*G24 -> 0
C25: Access (e.g., Porches, Stairs, Ramps, etc.) | H25: =F25*G25 -> 0
C26: Inspections | H26: =F26*G26 -> 0
C27: Temporary Lodging | H27: =F27*G27 -> 0
C28: Misc. | D28: N/A or Provide Details | H28: =F28*G28 -> 0
C29: Misc. | D29: N/A or Provide Details | H29: =F29*G29 -> 0
C30: Misc. | D30: N/A or Provide Details | H30: =F30*G30 -> 0
G31: Construction Total: | H31: =SUM(H20:H30) -> 0
B32: Post-Elevation | C32: Post-Survey & Elevation Certificate | H32: =F32*G32 -> 0
C33: Final Site Work (e.g., Grade, Seed, etc.) | H33: =F33*G33 -> 0
C34: Deed Record Fee | H34: =F34*G34 -> 0
C35: Demobilization | H35: =F35*G35 -> 0
C36: Misc. | D36: N/A or Provide Details | H36: =F36*G36 -> 0
C37: Misc. | D37: N/A or Provide Details | H37: =F37*G37 -> 0
C38: Misc. | D38: N/A or Provide Details | H38: =F38*G38 -> 0
G39: Post-Elevation Total: | H39: =SUM(H32:H38) -> 0
B40: Other | C40: Profit & Overhead
C41: Construction Management Costs
G42: Other Total: | H42: =SUM(H40:H41) -> 0
...

Sheet Property (5)
B2: ELEVATION REQUEST FOR BID PROPERTY WORKSHEET
B3: STORM #: | C3: 4568 | E3: STREET ADDRESS: | F3: 795 Foreman Lane
B4: PROJECT #: | C4: 7 | E4: CITY: | F4: Belhaven
B6: WORK PHASE | C6: ITEMIZED WORK | E6: UNIT OF MEASURE | F6: UNIT PRICE | G6: QUANTITY | H6: ITEMIZED COST
B7: Pre-Elevation | C7: Feasibility Analysis | H7: =F7*G7 -> 0
C8: Home Inspection Report | H8: =F8*G8 -> 0
C9: Pre-Survey & Elevation Certificate | H9: =F9*G9 -> 0
C10: Title Research (Coversheet, Deed & Tax Report) | H10: =F10*G10 -> 0
C11: Engineering & Design | H11: =F11*G11 -> 0
C12: Permitting | H12: =F12*G12 -> 0
C13: Asbestos & Lead Inspection | H13: =F13*G13 -> 0
C14: Termite Inspection & Treatment | H14: =F14*G14 -> 0
C15: Mobilization | H15: =F15*G15 -> 0
C16: Misc. | D16: N/A or Provide Details | H16: =F16*G16 -> 0
C17: Misc. | D17: N/A or Provide Details | H17: =F17*G17 -> 0
C18: Misc. | D18: N/A or Provide Details | H18: =F18*G18 -> 0
G19: Pre-Elevation Total: | H19: =SUM(H7:H18) -> 0
B20: Elevation Construction | C20: Preparatory Site Work | H20: =F20*G20 -> 0
C21: Utility Disconnect & Reconnect | H21: =F21*G21 -> 0
C22: Elevation - Lift & Lower | H22: =F22*G22 -> 0
C23: Foundation Demolition | H23: =F23*G23 -> 0
C24: Foundation Construction | H24: =F24*G24 -> 0
C25: Access (e.g., Porches, Stairs, Ramps, etc.) | H25: =F25*G25 -> 0
C26: Inspections | H26: =F26*G26 -> 0
C27: Temporary Lodging | H27: =F27*G27 -> 0
C28: Misc. | D28: N/A or Provide Details | H28: =F28*G28 -> 0
C29: Misc. | D29: N/A or Provide Details | H29: =F29*G29 -> 0
C30: Misc. | D30: N/A or Provide Details | H30: =F30*G30 -> 0
G31: Construction Total: | H31: =SUM(H20:H30) -> 0
B32: Post-Elevation | C32: Post-Survey & Elevation Certificate | H32: =F32*G32 -> 0
C33: Final Site Work (e.g., Grade, Seed, etc.) | H33: =F33*G33 -> 0
C34: Deed Record Fee | H34: =F34*G34 -> 0
C35: Demobilization | H35: =F35*G35 -> 0
C36: Misc. | D36: N/A or Provide Details | H36: =F36*G36 -> 0
C37: Misc. | D37: N/A or Provide Details | H37: =F37*G37 -> 0
C38: Misc. | D38: N/A or Provide Details | H38: =F38*G38 -> 0
G39: Post-Elevation Total: | H39: =SUM(H32:H38) -> 0
B40: Other | C40: Profit & Overhead
C41: Construction Management Costs
G42: Other Total: | H42: =SUM(H40:H41) -> 0
...

Sheet Property (6)
B2: ELEVATION REQUEST FOR BID PROPERTY WORKSHEET
B3: STORM #: | C3: 4568 | E3: STREET ADDRESS: | F3: 952 E Main Street
B4: PROJECT #: | C4: 7 | E4: CITY: | F4: Belhaven
B6: WORK PHASE | C6: ITEMIZED WORK | E6: UNIT OF MEASURE | F6: UNIT PRICE | G6: QUANTITY | H6: ITEMIZED COST
B7: Pre-Elevation | C7: Feasibility Analysis | H7: =F7*G7 -> 0
C8: Home Inspection Report | H8: =F8*G8 -> 0
C9: Pre-Survey & Elevation Certificate | H9: =F9*G9 -> 0
C10: Title Research (Coversheet, Deed & Tax Report) | H10: =F10*G10 -> 0
C11: Engineering & Design | H11: =F11*G11 -> 0
C12: Permitting | H12: =F12*G12 -> 0
C13: Asbestos & Lead Inspection | H13: =F13*G13 -> 0
C14: Termite Inspection & Treatment | H14: =F14*G14 -> 0
C15: Mobilization | H15: =F15*G15 -> 0
C16: Misc. | D16: N/A or Provide Details | H16: =F16*G16 -> 0
C17: Misc. | D17: N/A or Provide Details | H17: =F17*G17 -> 0
C18: Misc. | D18: N/A or Provide Details | H18: =F18*G18 -> 0
G19: Pre-Elevation Total: | H19: =SUM(H7:H18) -> 0
B20: Elevation Construction | C20: Preparatory Site Work | H20: =F20*G20 -> 0
C21: Utility Disconnect & Reconnect | H21: =F21*G21 -> 0
C22: Elevation - Lift & Lower | H22: =F22*G22 -> 0
C23: Foundation Demolition | H23: =F23*G23 -> 0
C24: Foundation Construction | H24: =F24*G24 -> 0
C25: Access (e.g., Porches, Stairs, Ramps, etc.) | H25: =F25*G25 -> 0
C26: Inspections | H26: =F26*G26 -> 0
C27: Temporary Lodging | H27: =F27*G27 -> 0
C28: Misc. | D28: N/A or Provide Details | H28: =F28*G28 -> 0
C29: Misc. | D29: N/A or Provide Details | H29: =F29*G29 -> 0
C30: Misc. | D30: N/A or Provide Details | H30: =F30*G30 -> 0
G31: Construction Total: | H31: =SUM(H20:H30) -> 0
B32: Post-Elevation | C32: Post-Survey & Elevation Certificate | H32: =F32*G32 -> 0
C33: Final Site Work (e.g., Grade, Seed, etc.) | H33: =F33*G33 -> 0
C34: Deed Record Fee | H34: =F34*G34 -> 0
C35: Demobilization | H35: =F35*G35 -> 0
C36: Misc. | D36: N/A or Provide Details | H36: =F36*G36 -> 0
C37: Misc. | D37: N/A or Provide Details | H37: =F37*G37 -> 0
C38: Misc. | D38: N/A or Provide Details | H38: =F38*G38 -> 0
G39: Post-Elevation Total: | H39: =SUM(H32:H38) -> 0
B40: Other | C40: Profit & Overhead
C41: Construction Management Costs
G42: Other Total: | H42: =SUM(H40:H41) -> 0
...

Sheet Property (7)
B2: ELEVATION REQUEST FOR BID PROPERTY WORKSHEET
B3: STORM #: | C3: 4568 | E3: STREET ADDRESS: | F3: 1275 Little Creek Rd Ext
B4: PROJECT #: | C4: 7 | E4: CITY: | F4: Belhaven
B6: WORK PHASE | C6: ITEMIZED WORK | E6: UNIT OF MEASURE | F6: UNIT PRICE | G6: QUANTITY | H6: ITEMIZED COST
B7: Pre-Elevation | C7: Feasibility Analysis | H7: =F7*G7 -> 0
C8: Home Inspection Report | H8: =F8*G8 -> 0
C9: Pre-Survey & Elevation Certificate | H9: =F9*G9 -> 0
C10: Title Research (Coversheet, Deed & Tax Report) | H10: =F10*G10 -> 0
C11: Engineering & Design | H11: =F11*G11 -> 0
C12: Permitting | H12: =F12*G12 -> 0
C13: Asbestos & Lead Inspection | H13: =F13*G13 -> 0
C14: Termite Inspection & Treatment | H14: =F14*G14 -> 0
C15: Mobilization | H15: =F15*G15 -> 0
C16: Misc. | D16: N/A or Provide Details | H16: =F16*G16 -> 0
C17: Misc. | D17: N/A or Provide Details | H17: =F17*G17 -> 0
C18: Misc. | D18: N/A or Provide Details | H18: =F18*G18 -> 0
G19: Pre-Elevation Total: | H19: =SUM(H7:H18) -> 0
B20: Elevation Construction | C20: Preparatory Site Work | H20: =F20*G20 -> 0
C21: Utility Disconnect & Reconnect | H21: =F21*G21 -> 0
C22: Elevation - Lift & Lower | H22: =F22*G22 -> 0
C23: Foundation Demolition | H23: =F23*G23 -> 0
C24: Foundation Construction | H24: =F24*G24 -> 0
C25: Access (e.g., Porches, Stairs, Ramps, etc.) | H25: =F25*G25 -> 0
C26: Inspections | H26: =F26*G26 -> 0
C27: Temporary Lodging | H27: =F27*G27 -> 0
C28: Misc. | D28: N/A or Provide Details | H28: =F28*G28 -> 0
C29: Misc. | D29: N/A or Provide Details | H29: =F29*G29 -> 0
C30: Misc. | D30: N/A or Provide Details | H30: =F30*G30 -> 0
G31: Construction Total: | H31: =SUM(H20:H30) -> 0
B32: Post-Elevation | C32: Post-Survey & Elevation Certificate | H32: =F32*G32 -> 0
C33: Final Site Work (e.g., Grade, Seed, etc.) | H33: =F33*G33 -> 0
C34: Deed Record Fee | H34: =F34*G34 -> 0
C35: Demobilization | H35: =F35*G35 -> 0
C36: Misc. | D36: N/A or Provide Details | H36: =F36*G36 -> 0
C37: Misc. | D37: N/A or Provide Details | H37: =F37*G37 -> 0
C38: Misc. | D38: N/A or Provide Details | H38: =F38*G38 -> 0
G39: Post-Elevation Total: | H39: =SUM(H32:H38) -> 0
B40: Other | C40: Profit & Overhead
C41: Construction Management Costs
G42: Other Total: | H42: =SUM(H40:H41) -> 0
...

Sheet Property (8)
B2: ELEVATION REQUEST FOR BID PROPERTY WORKSHEET
B3: STORM #: | C3: 4568 | E3: STREET ADDRESS: | F3: 617 E Second St-OPTIONED
B4: PROJECT #: | C4: 7 | E4: CITY: | F4: Belhaven
B6: WORK PHASE | C6: ITEMIZED WORK | E6: UNIT OF MEASURE | F6: UNIT PRICE | G6: QUANTITY | H6: ITEMIZED COST
B7: Pre-Elevation | C7: Feasibility Analysis | H7: =F7*G7 -> 0
C8: Home Inspection Report | H8: =F8*G8 -> 0
C9: Pre-Survey & Elevation Certificate | H9: =F9*G9 -> 0
C10: Title Research (Coversheet, Deed & Tax Report) | H10: =F10*G10 -> 0
C11: Engineering & Design | H11: =F11*G11 -> 0
C12: Permitting | H12: =F12*G12 -> 0
C13: Asbestos & Lead Inspection | H13: =F13*G13 -> 0
C14: Termite Inspection & Treatment | H14: =F14*G14 -> 0
C15: Mobilization | H15: =F15*G15 -> 0
C16: Misc. | D16: N/A or Provide Details | H16: =F16*G16 -> 0
C17: Misc. | D17: N/A or Provide Details | H17: =F17*G17 -> 0
C18: Misc. | D18: N/A or Provide Details | H18: =F18*G18 -> 0
G19: Pre-Elevation Total: | H19: =SUM(H7:H18) -> 0
B20: Elevation Construction | C20: Preparatory Site Work | H20: =F20*G20 -> 0
C21: Utility Disconnect & Reconnect | H21: =F21*G21 -> 0
C22: Elevation - Lift & Lower | H22: =F22*G22 -> 0
C23: Foundation Demolition | H23: =F23*G23 -> 0
C24: Foundation Construction | H24: =F24*G24 -> 0
C25: Access (e.g., Porches, Stairs, Ramps, etc.) | H25: =F25*G25 -> 0
C26: Inspections | H26: =F26*G26 -> 0
C27: Temporary Lodging | H27: =F27*G27 -> 0
C28: Misc. | D28: N/A or Provide Details | H28: =F28*G28 -> 0
C29: Misc. | D29: N/A or Provide Details | H29: =F29*G29 -> 0
C30: Misc. | D30: N/A or Provide Details | H30: =F30*G30 -> 0
G31: Construction Total: | H31: =SUM(H20:H30) -> 0
B32: Post-Elevation | C32: Post-Survey & Elevation Certificate | H32: =F32*G32 -> 0
C33: Final Site Work (e.g., Grade, Seed, etc.) | H33: =F33*G33 -> 0
C34: Deed Record Fee | H34: =F34*G34 -> 0
C35: Demobilization | H35: =F35*G35 -> 0
C36: Misc. | D36: N/A or Provide Details | H36: =F36*G36 -> 0
C37: Misc. | D37: N/A or Provide Details | H37: =F37*G37 -> 0
C38: Misc. | D38: N/A or Provide Details | H38: =F38*G38 -> 0
G39: Post-Elevation Total: | H39: =SUM(H32:H38) -> 0
B40: Other | C40: Profit & Overhead
C41: Construction Management Costs
G42: Other Total: | H42: =SUM(H40:H41) -> 0
...

Sheet REF-LASTSHEET-DONOTMOVE
B2: *THIS SHEET HAS INTENTIONALLY BEEN LEFT BLANK. DO NOT DELETE.
